BEGIN:VCALENDAR
VERSION:2.0
PRODID:-//360 Alumni//FoodCorps//EN
METHOD:REQUEST
BEGIN:VEVENT
UID:4707
DTSTAMP:20181010T230000Z
DTSTART:20181010T230000Z
DTEND:20181011T000000Z
LOCATION:online event
SUMMARY: Showing Up & Staying Safe as an LGBTQ Educator
DESCRIPTION: Showing Up &amp; Staying Safe as an LGBTQ Educator, Wednesday, October 10th, 7 PM-8 PM EST/4 PM PST/1 PM HST

Navigating issues of gender identity and sexual orientation can be a challenge in any workplace, but school settings can be especially complicated. During this panel you will learn from the experiences of LGBTQ and gender non-conforming FoodCorps alums who continue to work as educators in school and after-school settings, learn how the FoodCorps HR Team can help mediate incidents of discrimination or other interpersonal conflicts, and how to make LGBTQ-inclusive local and/or statewide nondiscrimination laws work for you (if they exist in your service state.) If there are any burning questions you&#39;d like our panelists to address, please email tiffany.mcclain@foodcorps.org.


	
	To join the webinar follow this link from PC, Mac, iOS or Android browser: https://zoom.us/j/979279280
	
	
	From Telephone: Dial (408) 638-0986 or (646) 876-9923
	
	
	From iPhone zoom one-tap app: +14086380986,,979279280# &nbsp;or +16468769923,,979279280#
	
	
	Meeting ID: 979 279 280
	

END:VEVENT
END:VCALENDAR
