BEGIN:VCALENDAR
VERSION:2.0
PRODID:-//360 Alumni//FoodCorps//EN
METHOD:REQUEST
BEGIN:VEVENT
UID:4769
DTSTAMP:20181113T210000Z
DTSTART:20181113T210000Z
DTEND:20181113T221500Z
LOCATION:online event
SUMMARY: Grant Writing 101
DESCRIPTION: We will review best practices, tips, and tricks for creating winning grant proposals to help get your project funded. From an overview of finding the right funding opportunities to pursue, to tackling the must-have content of a winning proposal, we&rsquo;ll cover all the basics, support and answer each other&rsquo;s questions, and uncover how to turn the pain points of grant writing into a confidence-boosting success.

&nbsp;

Check out this Glossary of Terms we&#39;ll be using during the training to help you follow along.

Logging in to the call:

LAST MINUTE UPDATE:

&nbsp;

New Zoom login credentials!&nbsp;Use the link below instead of what was shared earlier.&nbsp;

https://zoom.us/j/754232906

&nbsp;
END:VEVENT
END:VCALENDAR
