BEGIN:VCALENDAR
VERSION:2.0
PRODID:-//360 Alumni//FoodCorps//EN
METHOD:REQUEST
BEGIN:VEVENT
UID:4770
DTSTAMP:20181030T230000Z
DTSTART:20181030T230000Z
DTEND:20181031T000000Z
LOCATION:online event
SUMMARY: Seeking alumni input to inform FoodCorps' definition of healthy food
DESCRIPTION: This event is open exclusively for ALUMNI! Current service members will have a different opportunity to weigh in.

Ever wondered what FoodCorps is talking about when we say &quot;healthy&quot; or &quot;high quality&quot; or &ldquo;real&rdquo; food? With our evolving scope of work, it has become more important that we define our food values or vision. Because of that, we have formed a staff working group that is tasked with identifying these values and thinking through how they will inform the work that we do.

We know that we can&rsquo;t make such important decisions without every level of our organization and broader community providing their input. So,&nbsp;we NEED YOUR HELP. We will be hosting a call to gather your thoughts and inform our process and ultimately our stance on our food values.

If you have access to a computer it would be great to see your faces in the Zoom meeting! If not, feel free to use the phone credentials below.&nbsp;

Join from PC, Mac, Linux, iOS or Android: https://zoom.us/j/383426972

Or iPhone one-tap :
US: +14086380986,,383426972# or +16468769923,,383426972#&nbsp;
Or Telephone:
Dial(for higher quality, dial a number based on your current location):&nbsp;
US: +1 408 638 0986 or +1 646 876 9923&nbsp;
Meeting ID: 383 426 972
International numbers available: https://zoom.us/u/aeouPGbO2B

&nbsp;
END:VEVENT
END:VCALENDAR
