BEGIN:VCALENDAR
VERSION:2.0
PRODID:-//360 Alumni//FoodCorps//EN
METHOD:REQUEST
BEGIN:VEVENT
UID:4776
DTSTAMP:20181017T230000Z
DTSTART:20181017T230000Z
DTEND:20181018T010000Z
LOCATION:Wright Locke Farm
SUMMARY: Food Heals Our Communities Speaking Event with David Waters
DESCRIPTION: FoodCorps alums, please join the Massachusetts FoodCorps team and some of this year&#39;s service members at&nbsp;Food Heals Our Communities&nbsp;speaking event with&nbsp;David&nbsp;Waters, CEO, Community Servings.&nbsp;&nbsp;http://www.wlfarm.org/speaker-series/

Community Servings is a Boston-based not-for-profit that engages the community in preparing and delivering made-from-scratch medically tailored meals to individuals coping with chronic illnesses throughout Massachusetts. In his talk CEO,&nbsp;David&nbsp;Waters, will delve into the successful partnerships they&rsquo;ve created with local farms and food purveyors through their &ldquo;Abundance Initiative&rdquo; to increase access to fresh produce in their kitchens, eliminate waste in the food system, and, ultimately, use food to heal.

When:&nbsp;October 17th at 7:30PM

Where:&nbsp;Wright Locke Farm,&nbsp;78 Ridge Street, Winchester, MA

Who:&nbsp;Free&nbsp;lecture, all invited to attend.&nbsp;&nbsp;

How:&nbsp;Register for the lecture here:&nbsp;https://portal.wlfarm.org/portal/event-registration/221

RSVP:&nbsp;To me at&nbsp;hello.rochelleli@gmail.com
END:VEVENT
END:VCALENDAR
