BEGIN:VCALENDAR
VERSION:2.0
PRODID:-//360 Alumni//FoodCorps//EN
METHOD:REQUEST
BEGIN:VEVENT
UID:4790
DTSTAMP:20181030T200000Z
DTSTART:20181030T200000Z
DTEND:20181030T210000Z
LOCATION:online event
SUMMARY: Equity & Access in the School Garden Movement - Webinar
DESCRIPTION: Equity &amp; Access in the School Garden Movement Webinar&nbsp;-- October 30, 2018 1pm-2pm PST&nbsp;Register

School gardens can be a powerful tool for promoting racial and social equity, but equally important are the ways school garden organizations and school garden educators approach equity and access. Please join Suzannah Holsenbeck of Common Ground, Ida Sobotik of Community Groundworks, and Sam Ullery of the DC Office of State Superintendent of Education as they discuss what equity in school gardens means to their organizations. They will share case studies and offer suggestions for how your organization can tackle issues around equity and access in your work.&nbsp;
END:VEVENT
END:VCALENDAR
