BEGIN:VCALENDAR
VERSION:2.0
PRODID:-//360 Alumni//FoodCorps//EN
METHOD:REQUEST
BEGIN:VEVENT
UID:5020
DTSTAMP:20190206T060000Z
DTSTART:20190206T060000Z
DTEND:20190207T060000Z
LOCATION:The Vines Center
SUMMARY: South-Central Mid-Year Gathering
DESCRIPTION: YOU STILL NEED TO RSVP HERE!!

Wednesday, FEBRUARY 6
12:00 Lunch
2:00-5:00pm Training Details TBD (Check back in on December 20 for final details)
5:00-6:00pm Alumni Mixer
6:00-9:00pm Dinner &amp; Celebratory Evening Events

Thursday, FEBRUARY 7
8:30-12:30 Three different Career Development events including a Career Panel, Networking Activity and Career Exploration Session
END:VEVENT
END:VCALENDAR
