BEGIN:VCALENDAR
VERSION:2.0
PRODID:-//360 Alumni//FoodCorps//EN
METHOD:REQUEST
BEGIN:VEVENT
UID:5021
DTSTAMP:20190221T080000Z
DTSTART:20190221T080000Z
DTEND:20190221T080000Z
LOCATION:Mills College
SUMMARY: Western Mid-Year Gathering
DESCRIPTION: You still have to RSVP officially&nbsp;HERE!

&nbsp;

Thursday, FEBRUARY 21:
8:30-12:00pm Three different Career Development events including a Career Panel, Networking Activity and Career Exploration Session
12:00-2:00pm Lunch
2:00-5:00pm Training Details TBD (Check back in on December 20 for final details)
5:00-6:00pm Alumni Mixer
6:00-9:00pm Dinner &amp; Celebratory Evening Events
END:VEVENT
END:VCALENDAR
