BEGIN:VCALENDAR
VERSION:2.0
PRODID:-//360 Alumni//FoodCorps//EN
METHOD:REQUEST
BEGIN:VEVENT
UID:5022
DTSTAMP:20190305T050000Z
DTSTART:20190305T050000Z
DTEND:20190305T050000Z
LOCATION:Old Sturbridge Village
SUMMARY: Northeastern Mid-Year Gathering
DESCRIPTION: You still have to RSVP HERE!

&nbsp;

You are invited to attend our Northeast Regional Mid-Year Gathering at Sturbridge Village on Tuesday, March 5 starting at 12:00pm.&nbsp;

Here&#39;s an overview of the day:
12:00pm Lunch
2:00-5:00pm Training Details TBD (Check back in on December 20 for final details)
5:00-6:00pm Alumni Mixer
6:00-7:00pm Dinner
7:00-9pm Self Care Fair (Service members will share some of their favorite self-care activities. You can decide which you&#39;d like to go to. You&#39;ll find things like exercise classes, crafts,&nbsp; making tinctures, and more!)
END:VEVENT
END:VCALENDAR
