BEGIN:VCALENDAR
VERSION:2.0
PRODID:-//360 Alumni//FoodCorps//EN
METHOD:REQUEST
BEGIN:VEVENT
UID:5242
DTSTAMP:20190427T140000Z
DTSTART:20190427T140000Z
DTEND:20190427T210000Z
LOCATION:FoodCorps Office
SUMMARY: Career Roadshow - Boston, MA
DESCRIPTION: You&#39;re invited to a full day of career exploration. Find an overview of what we cover below!


	Travel will be covered for all current service members in the state where the event is taking place.
	Alumni can send a transportation funding request for up to $50 to Robyn (robyn.wardell@foodcorps.org) with the following:
	
		​Location and date of Career Roadshow you wish to attend
		Where you&rsquo;ll be traveling from&nbsp;
		1-3 sentences regarding your financial situation and how the $50 would be beneficial&nbsp;
	
	


AGENDA

10:00-10:15am Welcome &amp; Introductions

10:15-11:15am Career Exploration and Reflection: We&#39;ll provide context for how to think about your career trajectory and review the results of your Strong Interest Inventory.

11:15-11:30&nbsp;Break

11:30-12:15 Job seeking and how to get the job that you want:&nbsp;We&#39;ll review the primary ways you should go about finding a job in your field of interest.

12:15-12:45&nbsp;Lunch will be provided

12:45-2:05 Resumes &amp; Cover Letters:&nbsp;We&#39;ll provide an overview of do&#39;s and don&#39;ts, help you articulate how your FoodCorps experience prepares you for positions and provide ample time for peer reviews.

2:05-2:15&nbsp;Break

2:15-3:45 Effective Interviewing:&nbsp;This will be an interactive, skills-based session to help you articulate your skills and experiences in an interview setting.

3:45-3:55pm&nbsp;Break

3:55-4:45pm Building Networking Skills:&nbsp;We will have an opportunity for you to network with one another and share best practices around effective network-building more broadly. You&#39;ll leave with connections and resources&nbsp;to help you move closer towards your career goals.&nbsp;


4:45-5:00&nbsp;Wrap up!

&nbsp;

Getting there:&nbsp;

&nbsp;

Office Address &amp; Details:&nbsp;


	225 Franklin St. Boston, MA 02110. 3rd Floor
	Upon arrival, please visit front desk,&nbsp;present Photo I.D.&nbsp;and proceed to the 3rd floor. You can let them know you are there for the FoodCorps training in the&nbsp;New Profit&nbsp;Office.&nbsp;


Parking info:&nbsp;


	There are several parking garages in the area, but we would recommend:&nbsp;The Garage at Post Office Square, Zero Post Office Square, Boston, MA 02109. Weekend rates at $9-10.&nbsp;
	Street parking is metered and has a 2 hour limit, so not recommended.&nbsp;


Public transit:&nbsp;


	Our office is accessible via the MBTA Orange (State Street stop, 7 min walk), Red (South Station stop, 6 min walk) and Green lines (Government Center stop, 12 min walk).&nbsp;

END:VEVENT
END:VCALENDAR
