BEGIN:VCALENDAR
VERSION:2.0
PRODID:-//360 Alumni//FoodCorps//EN
METHOD:REQUEST
BEGIN:VEVENT
UID:5311
DTSTAMP:20190617T070000Z
DTSTART:20190617T070000Z
DTEND:20190621T070000Z
LOCATION:Hinson Church
SUMMARY: School Garden Coordinator Certificate Training
DESCRIPTION: One of our service sites, Growing Gardens, is hosting a&nbsp;School&nbsp;Garden&nbsp;Coordinator&nbsp;Certificate&nbsp;Training&nbsp;June 17-21st in Portland, OR.&nbsp;School&nbsp;garden&nbsp;volunteers, teachers, food service staff and non-profit educators from around the country come together for a week of hands-on learning and&nbsp;school&nbsp;garden&nbsp;tours. If you have attended in the past, please share this announcement with your colleagues.

Through this 35 hour&nbsp;training, leaders in the field will share best practices for building, using and maintaining&nbsp;school&nbsp;and youth food gardening programs. By the end of this&nbsp;training, you will have knowledge, skills and resources to implement and maintain an edible&nbsp;school&nbsp;garden&nbsp;project built on a foundation of broad community involvement. We have a dynamic line up of speakers, hands-on activities and site visits.&nbsp;

For details and to register, please follow this link:

http://www.growing-gardens.org/our-programs/youth-grow/school-garden-coordinator-certificate-training/

&nbsp;
END:VEVENT
END:VCALENDAR
