BEGIN:VCALENDAR
VERSION:2.0
PRODID:-//360 Alumni//FoodCorps//EN
METHOD:REQUEST
BEGIN:VEVENT
UID:6311
DTSTAMP:20200304T140000Z
DTSTART:20200304T140000Z
DTEND:20200305T180000Z
LOCATION:The Graduate Hotel
SUMMARY: South & Central Regional Mid-Year Gathering: March 4th-5th, Athens, GA
DESCRIPTION: ou are invited to attend one of FoodCorps&#39; three Regional Mid-year Gatherings this winter! These events will include career development and service focused trainings - designed for service members but also very useful for alumni - as well as meaningful opportunities to network and connect with regional alums, staff and service members! More details will be shared in the January newsletter, but in the meantime, please save the date and RSVP if you&rsquo;ll plan to join us!&nbsp;

&nbsp;

Note: You many choose to attend part or all of the options listed in the RSVP form. Lodging is not covered though meals will be covered while you are in attendance. If you have any questions, please reach out!
END:VEVENT
END:VCALENDAR
