BEGIN:VCALENDAR
VERSION:2.0
PRODID:-//360 Alumni//FoodCorps//EN
METHOD:REQUEST
BEGIN:VEVENT
UID:7148
DTSTAMP:20200706T040000Z
DTSTART:20200706T040000Z
DTEND:20200801T040000Z
LOCATION:online event
SUMMARY: ASU Food Policy & Sustainability Leadership Graduate Certificate
DESCRIPTION: Hello FoodCorps Alumni! (You do NOT need a ticket for this event)Below is an awesome opportunity&nbsp;for alumni interested in policy! Please apply. FoodCorps Alumni can get most if not all of their tuition covered and it's a great way to use you education award.The&nbsp;Graduate Certificate in Food Policy and Sustainability Leadership&nbsp;is built for rising stars from business, nonprofits, academia, and government, modeling the community necessary for food system transformation. The program operates with four primary goals for the next generation of food policy leaders.Provide an in-depth understanding of present-day health, agriculture and environment policy and how it came to beDeliver training on the strategic elements of a policy and agenda-setting campaignApply the new knowledge and skills to real-world policy problemsGain access to a prominent and influential network of food and agriculture policy leaders and mentors&nbsp; &nbsp;Read more about the program HEREYou must apply for the program on ASu's Website.Please fill out this quick&nbsp;Survey&nbsp;if you're interested&nbsp;in financial aid!The deadline of August 1st, is fast approaching and the limited number of spots fill up fast. Please reach out to me with any questions @ Jenetta.Hargrove@foodcorp.org. Hope to hear from you soon!&nbsp;&nbsp;
END:VEVENT
END:VCALENDAR
