BEGIN:VCALENDAR
VERSION:2.0
PRODID:-//360 Alumni//FoodCorps//EN
METHOD:REQUEST
BEGIN:VEVENT
UID:8842
DTSTAMP:20211020T040000Z
DTSTART:20211020T040000Z
DTEND:20211117T050000Z
LOCATION:online event
SUMMARY: Submit A Design For 2021 FoodCorps Swag!!
DESCRIPTION: Next month, FoodCorps will be launching new swag to our online store and we&rsquo;re looking for a new design inspired by our friends, service members, and alums!Have a creative slogan or design that speaks to your food philosophy and FoodCorps&rsquo;s mission/vision/values? Submit it to the MarComms team by Friday, November 12! The winner will receive $150 and a free t-shirt with their design on it!Submission Form!Online Store&nbsp;Looking forward to your brilliance!!&nbsp;&nbsp;&nbsp;
END:VEVENT
END:VCALENDAR
