BEGIN:VCALENDAR
VERSION:2.0
PRODID:-//360 Alumni//FoodCorps//EN
METHOD:REQUEST
BEGIN:VEVENT
UID:8894
DTSTAMP:20211201T190000Z
DTSTART:20211201T190000Z
DTEND:20211201T203000Z
LOCATION:online event
SUMMARY: test
DESCRIPTION: Hello!!Our second round of virtual careers fairs are back! If you'd like to speak on a panel at our next Nutrition &amp; Public Health Virtual Career Fair on&nbsp;Wednesday Dec. 1st from 1-2:30pm CST, check out the form below.https://docs.google.com/forms/d/1kSR2IdjQ1ZuDpWeJSOc5kCn7FhV9XqNXZ1NcY-RK634/editHope to Hear from you soon!Jenetta Hargrove Alumni Community Manager
END:VEVENT
END:VCALENDAR
