BEGIN:VCALENDAR
VERSION:2.0
PRODID:-//360 Alumni//FoodCorps//EN
METHOD:REQUEST
BEGIN:VEVENT
UID:9102
DTSTAMP:20220228T180000Z
DTSTART:20220228T180000Z
DTEND:20220228T210000Z
LOCATION:online event
SUMMARY: Grow Your Story- Digital Marketing Workshop
DESCRIPTION: Calling all Farmers, Producers, and Food Entrepreneurs&nbsp;FREE OPPORTUNITY: Grow your story with our friends at Milk Street! 
END:VEVENT
END:VCALENDAR
